BEGIN:VCALENDAR
VERSION:2.0
PRODID:-//Родопски Напредък - 2019 - ECPv4.9.10//NONSGML v1.0//EN
CALSCALE:GREGORIAN
METHOD:PUBLISH
X-WR-CALNAME:Родопски Напредък - 2019
X-ORIGINAL-URL:https://rodopski-napredak.com
X-WR-CALDESC:Events for Родопски Напредък - 2019
BEGIN:VTIMEZONE
TZID:Europe/Helsinki
BEGIN:DAYLIGHT
TZOFFSETFROM:+0200
TZOFFSETTO:+0300
TZNAME:EEST
DTSTART:20190331T010000
END:DAYLIGHT
BEGIN:STANDARD
TZOFFSETFROM:+0300
TZOFFSETTO:+0200
TZNAME:EET
DTSTART:20191027T010000
END:STANDARD
END:VTIMEZONE
BEGIN:VEVENT
DTSTART;VALUE=DATE:20190815
DTEND;VALUE=DATE:20190817
DTSTAMP:20260422T014858
CREATED:20150916T164729Z
LAST-MODIFIED:20191101T232807Z
UID:438-1565834400-1565920799@rodopski-napredak.com
SUMMARY:Събор на село Ситово - 2019
DESCRIPTION:.fusion-gallery-1 .fusion-gallery-image {border:0px solid #f6f6f6;}\n
URL:https://rodopski-napredak.com/event/sabor-2019/
LOCATION:с. Ситово\, центъра\, с. Ситово\, Пловдив\, 4104\, България
CATEGORIES:Изминали,Събор
ATTACH;FMTTYPE=image/jpeg:https://rodopski-napredak.com/wp-content/uploads/2015/09/sabor-8.jpg
END:VEVENT
END:VCALENDAR