BEGIN:VCALENDAR
VERSION:2.0
PRODID:-//Родопски Напредък - 2019 - ECPv4.9.10//NONSGML v1.0//EN
CALSCALE:GREGORIAN
METHOD:PUBLISH
X-WR-CALNAME:Родопски Напредък - 2019
X-ORIGINAL-URL:https://rodopski-napredak.com
X-WR-CALDESC:Events for Родопски Напредък - 2019
BEGIN:VTIMEZONE
TZID:Europe/Helsinki
BEGIN:DAYLIGHT
TZOFFSETFROM:+0200
TZOFFSETTO:+0300
TZNAME:EEST
DTSTART:20200329T010000
END:DAYLIGHT
BEGIN:STANDARD
TZOFFSETFROM:+0300
TZOFFSETTO:+0200
TZNAME:EET
DTSTART:20201025T010000
END:STANDARD
END:VTIMEZONE
BEGIN:VEVENT
DTSTART;TZID=Europe/Helsinki:20200418T120000
DTEND;TZID=Europe/Helsinki:20200418T190000
DTSTAMP:20260421T121028
CREATED:20150916T173904Z
LAST-MODIFIED:20191101T004140Z
UID:445-1587211200-1587236400@rodopski-napredak.com
SUMMARY:Детска работилница за "Писани яйца"
DESCRIPTION:18.04.2020г. 10.00ч.– Детска работилница за „Писани яйца“\n13.00ч. – Изложба на „Писани яйца“. \n
URL:https://rodopski-napredak.com/event/detska-rabotilnica/
LOCATION:с. Ситово\, центъра\, с. Ситово\, Пловдив\, 4104\, България
CATEGORIES:Работилница
ATTACH;FMTTYPE=image/jpeg:https://rodopski-napredak.com/wp-content/uploads/2015/08/placeholder.jpg
END:VEVENT
END:VCALENDAR